Workbook

Sheet A2 Text
A1: Assignment 2: Case Problem "Real Estate Development: Select a New Project"
A3: Problem Description
A4: A real estate company is considering the development of one of the following three possible projects: (1) an apartment building; (2) an office building; (3) a warehouse. The amount of payoff (profit) that could be earned by selling the estate depends on the economic conditions, specified as: optimistic, realistic and pessimistic.
A5: The estimated payoffs and probabilities under optimistic, realistic and pessimistic conditions are shown as follows:
A6: Alternatives | B6: States of Nature
B7: Optimistic Conditions | C7: Realistic Conditions | D7: Pessimistic Conditions
A8: Apartment Building | B8: 280000 | C8: 170000 | D8: -180000
A9: Office Building | B9: 340000 | C9: 250000 | D9: -30000
A10: Warehouse | B10: 380000 | C10: 330000 | D10: -80000
A11: Probability | B11: 0.21 | C11: 0.69 | D11: 0.1
A12: In preparation for a final decision, the company is considering the hiring of a business analyst. If the company hires the analyst, the decision regarding which project to develop will not be made until the analyst presents a survey. However, the analyst is requesting an upfront payment for the survey in the amount of Z. The probabilities of the survey results to be positive or negative are i and k.
A14: Summary tables, in case the company hires a business analyst:
A15: Fee for Survey | B15: 9000
A16: Probability of survey results positive | B16: 0.5
A17: Probability of survey results negative | B17: 0.5
A18: (1) If the survey results are positive:
A19: Alternatives | B19: States of Nature
B20: Optimistic Conditions | C20: Realistic Conditions | D20: Pessimistic Conditions
A21: Apartment Building | B21: A - Z | C21: B - Z | D21: C - Z
A22: Office Building | B22: D - Z | C22: E - Z | D22: F - Z
A23: Warehouse | B23: G - Z | C23: H - Z | D23: I - Z
A24: Probability | B24: 0.68 | C24: 0.2 | D24: 0.12
A25: (2) If the survey results are negative:
A26: Alternatives | B26: States of Nature
B27: Optimistic Conditions | C27: Realistic Conditions | D27: Pessimistic Conditions
A28: Apartment Building | B28: A - Z | C28: B - Z | D28: C - Z
A29: Office Building | B29: D - Z | C29: E - Z | D29: F - Z
A30: Warehouse | B30: G - Z | C30: H - Z | D30: I - Z
A31: Probability | B31: 0.19 | C31: 0.25 | D31: 0.56
A33: Assignment 2: Starting Conditions
A34: Each student will receive from the instructor an excel file with a different dataset for payoffs (A to I) and probabilities (x,y,z,i,k,d,e,f,g,h,n). You have to prepare and submit a managerial report where you should answer the question: Which one of the development projects should be selected? And based on your estimates, should the company hire the business analyst? | E34: Grading Points Per:
E35: Tasks | F35: Assignment
A36: # | B36: Content per Tasks | F36: 10
A37: Task 2-0 | E37: 1
A38: Task 2-1 | B38: Prepare payoff tables and develop a decision tree for this problem (without probabilities and EMVs). | E38: 2
A39: Task 2-2 | B39: Given the probability of all three economic conditions and using expected monetary values (EMVs), calculate EMVs for each node and answer the questions: (1) What's the EMV for not hiring a business analyst and the EMV for hiring a business analyst? (2) What is your recommendation: to hire or not to hire a business analyst? | E39: 2
A40: Task 2-3 | B40: Use sensitivity analysis to define the probability range with respect to the survey results which might affect the decision to hire or not to hire a business analyst, draw the sensitivity chart, and find the probability for their cross point. | E40: 2
A41: Task 2-4 | B41: Apply a software tool for the construction of a decision tree with payoffs, probabilities, and EMVs. The recommended tool is TreePlan: a Microsoft Excel Add-Ins (it is preinstalled on all V-PCs of the MET V-LABs) | E41: 2
A42: Task 2-5 | B42: Prepare an executive summary | E42: 1
B44: List of Worksheets in the Excel File (it should be used as a reference for different tasks of the managerial report)
A45: (i) | B45: A2 Text
A46: (ii) | B46: Payoff Table - Template
A47: (iii) | B47: Payoff Table - Solution and a sketch of a decision tree (without probability and EMVs) --> Needed for Task 2-1
A48: (iv) | B48: EMV Calculation: use EMV as a decision criterion for each decision nodes and states of nature nodes, calculate the EMV for each node, and recommend whether to hire/not to hire a business analyst --> Needed for Task 2-2
A49: (v) | B49: Sensitivity Analysis Diagram: compute the probability of survey results and define the range of probability values that the real estate company would hire or not hire a business analyst (including the probability of the cross point) --> Needed for Task 2-3
A50: (vi) | B50: TreePlan Diagram of the Decision Tree: use BU MET V-LAB for Excel Add-In TreePlan --> Needed for Task 2-4

Sheet Payoff Table Template
A1: Alternatives | B1: ='A2 Text'!B6:D6 -> States of Nature | E1: EMV
B2: ='A2 Text'!B7 -> Optimistic Conditions | C2: ='A2 Text'!C7 -> Realistic Conditions | D2: ='A2 Text'!D7 -> Pessimistic Conditions
A3: ='A2 Text'!A8 -> Apartment Building | B3: ='A2 Text'!B8 -> 280000 | C3: ='A2 Text'!C8 -> 170000 | D3: ='A2 Text'!D8 -> -180000 | E3: =(B3*$B$6)+(C3*$C$6)+(D3*$D$6) -> 158100
A4: ='A2 Text'!A9 -> Office Building | B4: ='A2 Text'!B9 -> 340000 | C4: ='A2 Text'!C9 -> 250000 | D4: ='A2 Text'!D9 -> -30000 | E4: =(B4*$B$6)+(C4*$C$6)+(D4*$D$6) -> 240900
A5: ='A2 Text'!A10 -> Warehouse | B5: ='A2 Text'!B10 -> 380000 | C5: ='A2 Text'!C10 -> 330000 | D5: ='A2 Text'!D10 -> -80000 | E5: =(B5*$B$6)+(C5*$C$6)+(D5*$D$6) -> 299500
A6: ='A2 Text'!A11 -> Probability | B6: ='A2 Text'!B11 -> 0.21 | C6: ='A2 Text'!C11 -> 0.69 | D6: ='A2 Text'!D11 -> 0.1
A7: Probability for Sensitivity Analysis | B7: P | C7: 0.6 - P | D7: i = 0.4
C9: 0.6

Sheet Task 2-1 Payoff Table Solution
A1: 1. If the company does not hire a business analyst:
A2: Alternatives | B2: States of Nature
B3: Optimistic Conditions | C3: Realistic Conditions | D3: Pessimistic Conditions
A4: Apartment Building | B4: ='A2 Text'!B8 -> 280000 | C4: ='A2 Text'!C8 -> 170000 | D4: ='A2 Text'!D8 -> -180000
A5: Office Building | B5: ='A2 Text'!B9 -> 340000 | C5: ='A2 Text'!C9 -> 250000 | D5: ='A2 Text'!D9 -> -30000
A6: Warehouse | B6: ='A2 Text'!B10 -> 380000 | C6: ='A2 Text'!C10 -> 330000 | D6: ='A2 Text'!D10 -> -80000
A7: Probability | B7: ='A2 Text'!B11 -> 0.21 | C7: ='A2 Text'!C11 -> 0.69 | D7: ='A2 Text'!D11 -> 0.1
A9: 2. If the company hires a business analyst:
A10: Fee for Survey | B10: ='A2 Text'!B15 -> 9000
A12: 2.1 If the analysis report is positive:
A13: Alternatives | B13: States of Nature
B14: Optimistic Conditions | C14: Realistic Conditions | D14: Pessimistic Conditions
A15: Apartment Building | B15: ='A2 Text'!B8-'A2 Text'!$B$15 -> 271000 | C15: ='A2 Text'!C8-'A2 Text'!$B$15 -> 161000 | D15: ='A2 Text'!D8-'A2 Text'!$B$15 -> -189000
A16: Office Building | B16: ='A2 Text'!B9-'A2 Text'!$B$15 -> 331000 | C16: ='A2 Text'!C9-'A2 Text'!$B$15 -> 241000 | D16: ='A2 Text'!D9-'A2 Text'!$B$15 -> -39000
A17: Warehouse | B17: ='A2 Text'!B10-'A2 Text'!$B$15 -> 371000 | C17: ='A2 Text'!C10-'A2 Text'!$B$15 -> 321000 | D17: ='A2 Text'!D10-'A2 Text'!$B$15 -> -89000
A18: Probability | B18: ='A2 Text'!B24 -> 0.68 | C18: ='A2 Text'!C24 -> 0.2 | D18: ='A2 Text'!D24 -> 0.12
A20: 2.2 If the analysis report is negative:
A21: Alternatives | B21: States of Nature
B22: Optimistic Conditions | C22: Realistic Conditions | D22: Pessimistic Conditions
A23: Apartment Building | B23: ='A2 Text'!B8-'A2 Text'!$B$15 -> 271000 | C23: ='A2 Text'!C8-'A2 Text'!$B$15 -> 161000 | D23: ='A2 Text'!D8-'A2 Text'!$B$15 -> -189000
A24: Office Building | B24: ='A2 Text'!B9-'A2 Text'!$B$15 -> 331000 | C24: ='A2 Text'!C9-'A2 Text'!$B$15 -> 241000 | D24: ='A2 Text'!D9-'A2 Text'!$B$15 -> -39000
A25: Warehouse | B25: ='A2 Text'!B10-'A2 Text'!$B$15 -> 371000 | C25: ='A2 Text'!C10-'A2 Text'!$B$15 -> 321000 | D25: ='A2 Text'!D10-'A2 Text'!$B$15 -> -89000
A26: Probability | B26: ='A2 Text'!B31 -> 0.19 | C26: ='A2 Text'!C31 -> 0.25 | D26: ='A2 Text'!D31 -> 0.56
A28: 3. Sketch of a Decision Tree (without probability and EMVs):

Sheet Task 2-2 Solution
A1: 1. If the company does not hire a business analyst:
A2: Alternatives | B2: States of Nature | E2: EMV | F2: Node
B3: Optimistic Conditions | C3: Realistic Conditions | D3: Pessimistic Conditions
A4: Apartment Building | B4: ='Task 2-1 Payoff Table Solution'!B4 -> 280000 | C4: ='Task 2-1 Payoff Table Solution'!C4 -> 170000 | D4: ='Task 2-1 Payoff Table Solution'!D4 -> -180000 | E4: =(B4*$B$7)+(C4*$C$7)+(D4*$D$7) -> 158100 | F4: 2
A5: Office Building | B5: ='Task 2-1 Payoff Table Solution'!B5 -> 340000 | C5: ='Task 2-1 Payoff Table Solution'!C5 -> 250000 | D5: ='Task 2-1 Payoff Table Solution'!D5 -> -30000 | E5: =(B5*$B$7)+(C5*$C$7)+(D5*$D$7) -> 240900 | F5: 2
A6: Warehouse | B6: ='Task 2-1 Payoff Table Solution'!B6 -> 380000 | C6: ='Task 2-1 Payoff Table Solution'!C6 -> 330000 | D6: ='Task 2-1 Payoff Table Solution'!D6 -> -80000 | E6: =(B6*$B$7)+(C6*$C$7)+(D6*$D$7) -> 299500 | F6: 2
A7: Probability | B7: ='Task 2-1 Payoff Table Solution'!B7 -> 0.21 | C7: ='Task 2-1 Payoff Table Solution'!C7 -> 0.69 | D7: ='Task 2-1 Payoff Table Solution'!D7 -> 0.1
A9: 2. If the company hires a business analyst:
A10: Fee for Survey | B10: ='Task 2-1 Payoff Table Solution'!B10 -> 9000
A12: 2.1 If the analysis report is positive:
A13: Alternatives | B13: States of Nature | E13: EMV | F13: Node
B14: Optimistic Conditions | C14: Realistic Conditions | D14: Pessimistic Conditions
A15: Apartment Building | B15: ='Task 2-1 Payoff Table Solution'!B15 -> 271000 | C15: ='Task 2-1 Payoff Table Solution'!C15 -> 161000 | D15: ='Task 2-1 Payoff Table Solution'!D15 -> -189000 | E15: =(B15*$B$18)+(C15*$C$18)+(D15*$D$18) -> 193800 | F15: 3
A16: Office Building | B16: ='Task 2-1 Payoff Table Solution'!B16 -> 331000 | C16: ='Task 2-1 Payoff Table Solution'!C16 -> 241000 | D16: ='Task 2-1 Payoff Table Solution'!D16 -> -39000 | E16: =(B16*$B$18)+(C16*$C$18)+(D16*$D$18) -> 268600 | F16: 3
A17: Warehouse | B17: ='Task 2-1 Payoff Table Solution'!B17 -> 371000 | C17: ='Task 2-1 Payoff Table Solution'!C17 -> 321000 | D17: ='Task 2-1 Payoff Table Solution'!D17 -> -89000 | E17: =(B17*$B$18)+(C17*$C$18)+(D17*$D$18) -> 305800 | F17: 3
A18: Probability | B18: ='Task 2-1 Payoff Table Solution'!B18 -> 0.68 | C18: ='Task 2-1 Payoff Table Solution'!C18 -> 0.2 | D18: ='Task 2-1 Payoff Table Solution'!D18 -> 0.12
A20: 2.2 If the analysis report is negative:
A21: Alternatives | B21: States of Nature | E21: EMV | F21: Node
B22: Optimistic Conditions | C22: Realistic Conditions | D22: Pessimistic Conditions
A23: Apartment Building | B23: =+'Task 2-1 Payoff Table Solution'!B23 -> 271000 | C23: =+'Task 2-1 Payoff Table Solution'!C23 -> 161000 | D23: =+'Task 2-1 Payoff Table Solution'!D23 -> -189000 | E23: =(B23*$B$26)+(C23*$C$26)+(D23*$D$26) -> -14100 | F23: 5
A24: Office Building | B24: =+'Task 2-1 Payoff Table Solution'!B24 -> 331000 | C24: =+'Task 2-1 Payoff Table Solution'!C24 -> 241000 | D24: =+'Task 2-1 Payoff Table Solution'!D24 -> -39000 | E24: =(B24*$B$26)+(C24*$C$26)+(D24*$D$26) -> 101300 | F24: 5
A25: Warehouse | B25: =+'Task 2-1 Payoff Table Solution'!B25 -> 371000 | C25: =+'Task 2-1 Payoff Table Solution'!C25 -> 321000 | D25: =+'Task 2-1 Payoff Table Solution'!D25 -> -89000 | E25: =(B25*$B$26)+(C25*$C$26)+(D25*$D$26) -> 100900 | F25: 5
A26: Probability | B26: =+'Task 2-1 Payoff Table Solution'!B26 -> 0.19 | C26: =+'Task 2-1 Payoff Table Solution'!C26 -> 0.25 | D26: =+'Task 2-1 Payoff Table Solution'!D26 -> 0.56
A28: 3. Final Solution
A29: 3.1 EMV (hire a business analyst)
A30: Probability of report results positive | B30: ='A2 Text'!B16 -> 0.5
A31: Probability of report results negative | B31: ='A2 Text'!B17 -> 0.5
C32: Node
A33: EMV (Report results positive) | B33: =MAX(E15:E17)*B30 -> 152900 | C33: 3
A34: EMV (Report results negative) | B34: =MAX(E23:E25)*B31 -> 50650 | C34: 5
A35: EMV (Hire a business analyst) | B35: =MAX(B33:B34) -> 152900 | C35: 4
A37: 3.2 Final EMV | C37: Node
A38: EMV (Hire a business analyst) | B38: =B35 -> 152900 | C38: 4
A39: EMV (Do not hire a business analyst) | B39: =B34 -> 50650 | C39: 2
A40: Final EMV (Hire/Do not hire a business analyst) | B40: =SUM(B38:B39) -> 203550 | C40: 1
B42: Recommendation
A43: Hire Business Analyst because emv is higher.

Sheet Task 2-3 Solution

Sheet Task 2-4 Solution
E5: Sensitivity Analysis
D6: p | E6: 1-P | F6: Hire | G6: Not to Hire
D7: 0 | E7: 1 | F7: 50650 | G7: 50650
D8: 0.1 | E8: 0.9 | F8: =(D8*F17)+(E8*G8) -> 60875 | G8: 50650
D9: =D8+0.1 -> 0.2 | E9: 0.8 | F9: =(D9*F17)+(E9*G9) -> 71100 | G9: 50650
D10: =D9+0.1 -> 0.3 | E10: 0.7 | F10: =(D10*F17)+(E10*G10) -> 81325 | G10: 50650
D11: 0.4 | E11: 0.6 | F11: =(D11*F17)+(E11*G11) -> 91550 | G11: 50650
D12: 0.5 | E12: 0.5 | F12: =(D12*$F$17)+(E12*G12) -> 101775 | G12: 50650
D13: 0.6 | E13: 0.4 | F13: =(D13*F$17)+(E13*G13) -> 112000 | G13: 50650
D14: 0.7 | E14: 0.3 | F14: =(D14*$F17)+(E14*G14) -> 122225 | G14: 50650
D15: 0.8 | E15: 0.2 | F15: =(D15*F17)+(E15*G15) -> 132450 | G15: 50650
D16: 0.9 | E16: 0.1 | F16: =(D16*F17)+(E16*G16) -> 142675 | G16: 50650
D17: 1 | E17: 0 | F17: 152900 | G17: 50650
